BEGIN:VCALENDAR
VERSION:2.0
PRODID:-//Endeavour - ECPv6.15.18//NONSGML v1.0//EN
CALSCALE:GREGORIAN
METHOD:PUBLISH
X-ORIGINAL-URL:https://endeavourecdc.co.za
X-WR-CALDESC:Events for Endeavour
REFRESH-INTERVAL;VALUE=DURATION:PT1H
X-Robots-Tag:noindex
X-PUBLISHED-TTL:PT1H
BEGIN:VTIMEZONE
TZID:UTC
BEGIN:STANDARD
TZOFFSETFROM:+0000
TZOFFSETTO:+0000
TZNAME:UTC
DTSTART:20240101T000000
END:STANDARD
END:VTIMEZONE
BEGIN:VEVENT
DTSTART;TZID=UTC:20250329T090000
DTEND;TZID=UTC:20250329T170000
DTSTAMP:20260421T144529
CREATED:20250329T140710Z
LAST-MODIFIED:20250329T140710Z
UID:1039-1743238800-1743267600@endeavourecdc.co.za
SUMMARY:Orienteering League 2025
DESCRIPTION:The Orienteering League 2025 is an exciting multi-day event designed to challenge and inspire young learners through outdoor navigation and problem-solving. The league consists of three stages: \nFirst Leg: Held on 21 March at Ramatsetse Primary School \nSecond Leg: Scheduled for 16 April at Batau Primary School \nFinals: Taking place on 16 May at Rahlagane Primary School \nThis initiative provides students with hands-on experience in orienteering\, enhancing their critical thinking\, teamwork\, and decision-making skills while promoting physical activity.
URL:https://endeavourecdc.co.za/event/orienteering-league-2025/
LOCATION:Ramatsetse Primary School\, Stompo Village\, Dennilton\, Limpompo\, 1030\, South Africa
ATTACH;FMTTYPE=image/jpeg:https://endeavourecdc.co.za/wp-content/uploads/2025/03/IMG-20250324-WA0055.jpg
END:VEVENT
END:VCALENDAR