BEGIN:VCALENDAR
VERSION:2.0
PRODID:-//Endeavour - ECPv6.15.18//NONSGML v1.0//EN
CALSCALE:GREGORIAN
METHOD:PUBLISH
X-ORIGINAL-URL:https://endeavourecdc.co.za
X-WR-CALDESC:Events for Endeavour
REFRESH-INTERVAL;VALUE=DURATION:PT1H
X-Robots-Tag:noindex
X-PUBLISHED-TTL:PT1H
BEGIN:VTIMEZONE
TZID:UTC
BEGIN:STANDARD
TZOFFSETFROM:+0000
TZOFFSETTO:+0000
TZNAME:UTC
DTSTART:20240101T000000
END:STANDARD
END:VTIMEZONE
BEGIN:VEVENT
DTSTART;VALUE=DATE:20250906
DTEND;VALUE=DATE:20250908
DTSTAMP:20260421T043523
CREATED:20250922T195845Z
LAST-MODIFIED:20250924T072540Z
UID:1217-1757116800-1757289599@endeavourecdc.co.za
SUMMARY:Limpopo Orienteering Championships
DESCRIPTION:The Endeavour Community Development Centre participated in the Limpopo Orienteering Championships on 6-7 September 2025. This event brought together learners from various schools to compete in orienteering\, developing their teamwork\, map-reading\, problem-solving\, and critical thinking skills. \nThe championship provided an engaging way for learners to enhance both their physical fitness and personal development\, while fostering a sense of healthy competition and collaboration.
URL:https://endeavourecdc.co.za/event/limpopo-orienteering-championships/
LOCATION:Thejane High School\, Main Road\, Ten Morgan\, Dennilton\, Mpumalanga\, 0850\, South Africa
ATTACH;FMTTYPE=image/jpeg:https://endeavourecdc.co.za/wp-content/uploads/2025/09/IMG-20250911-WA0023.jpg
ORGANIZER;CN="Endeavour Community Development Centre":MAILTO:info@endeavourecdc.co.za
END:VEVENT
END:VCALENDAR