BEGIN:VCALENDAR
VERSION:2.0
PRODID:-//Endeavour - ECPv6.15.18//NONSGML v1.0//EN
CALSCALE:GREGORIAN
METHOD:PUBLISH
X-ORIGINAL-URL:https://endeavourecdc.co.za
X-WR-CALDESC:Events for Endeavour
REFRESH-INTERVAL;VALUE=DURATION:PT1H
X-Robots-Tag:noindex
X-PUBLISHED-TTL:PT1H
BEGIN:VTIMEZONE
TZID:UTC
BEGIN:STANDARD
TZOFFSETFROM:+0000
TZOFFSETTO:+0000
TZNAME:UTC
DTSTART:20240101T000000
END:STANDARD
END:VTIMEZONE
BEGIN:VEVENT
DTSTART;VALUE=DATE:20251229
DTEND;VALUE=DATE:20260104
DTSTAMP:20260420T212432
CREATED:20260114T121840Z
LAST-MODIFIED:20260125T134625Z
UID:1225-1766966400-1767484799@endeavourecdc.co.za
SUMMARY:Big 5 Orienteering Week – Cradle of Humankind
DESCRIPTION:Learners and teachers from schools in the Moutse Central Circuit\, including Ramatsetse Primary School\, Batau Primary School\, Moteti Primary School\, Tadimane High School\, and Thejane High School\, were invited and sponsored by the South African Orienteering Federation to attend the international Big 5 Orienteering Week held at the Cradle of Humankind in Gauteng. \nThe event took place from 29 December 2025 to 3 January 2026 and brought together orienteers from South Africa and several other countries\, providing learners with exposure to an international competitive environment. \nParticipants took part in multi-day map-reading and navigation challenges that developed problem-solving\, teamwork\, and physical endurance. The programme concluded with excellent results\, where learners and one teacher achieved podium finishes in second and third place.
URL:https://endeavourecdc.co.za/event/big-5-orienteering-week-cradle-of-humankind/
LOCATION:Cradle of Humankind\, 8th Floor\, 124 Main Street\, Cnr Main/Kruis/Marshall Streets\, Johannesburg\, Gauteng\, 2000\, South Africa
ATTACH;FMTTYPE=image/jpeg:https://endeavourecdc.co.za/wp-content/uploads/2026/01/IMG-20260117-WA0011.jpg
ORGANIZER;CN="Rose Magolego":MAILTO:info@endeavourecdc.co.za
END:VEVENT
END:VCALENDAR