BEGIN:VCALENDAR
VERSION:2.0
PRODID:-//Endeavour - ECPv6.15.18//NONSGML v1.0//EN
CALSCALE:GREGORIAN
METHOD:PUBLISH
X-WR-CALNAME:Endeavour
X-ORIGINAL-URL:https://endeavourecdc.co.za
X-WR-CALDESC:Events for Endeavour
REFRESH-INTERVAL;VALUE=DURATION:PT1H
X-Robots-Tag:noindex
X-PUBLISHED-TTL:PT1H
BEGIN:VTIMEZONE
TZID:UTC
BEGIN:STANDARD
TZOFFSETFROM:+0000
TZOFFSETTO:+0000
TZNAME:UTC
DTSTART:20250101T000000
END:STANDARD
END:VTIMEZONE
BEGIN:VEVENT
DTSTART;VALUE=DATE:20260211
DTEND;VALUE=DATE:20260212
DTSTAMP:20260421T010834
CREATED:20260223T175556Z
LAST-MODIFIED:20260223T175556Z
UID:1311-1770768000-1770854399@endeavourecdc.co.za
SUMMARY:Orienteering Introduction – Moutse Eastern School Circuit
DESCRIPTION:Polokwane Orienteering Club\, in partnership with Endeavour Community Development Centre\, hosted an Orienteering Introduction session at the Moutse Eastern School Circuit on 11 February 2026. \nThe event took place at Tlou-Kwena Intermediate School in Elandsdoring and aimed to introduce learners to the fundamentals of orienteering\, including map-reading\, navigation skills\, and strategic thinking. \nLearners were given practical exposure to the sport\, encouraging teamwork\, problem-solving\, and physical activity. The session formed part of ongoing efforts to promote orienteering development within schools in the Moutse region.
URL:https://endeavourecdc.co.za/event/orienteering-introduction-moutse-eastern-school-circuit/
LOCATION:Moutse Central Circuit\, Stompo Kraal Village\, Dennilton\, Limpopo\, 1030\, South Africa
ATTACH;FMTTYPE=image/jpeg:https://endeavourecdc.co.za/wp-content/uploads/2026/02/IMG-20260219-WA0014.jpg
ORGANIZER;CN="Endeavour Community Development Centre":MAILTO:info@endeavourecdc.co.za
END:VEVENT
BEGIN:VEVENT
DTSTART;VALUE=DATE:20260311
DTEND;VALUE=DATE:20260312
DTSTAMP:20260421T010834
CREATED:20260403T144732Z
LAST-MODIFIED:20260403T144732Z
UID:1342-1773187200-1773273599@endeavourecdc.co.za
SUMMARY:Moutse Orienteering School League – First Leg at Tadimane High School
DESCRIPTION:The first leg of the Moutse Orienteering School League was held on 11 March 2026 at Tadimane High School. \nLearners from schools in both the Moutse Central and Moutse Eastern Circuits participated in the event\, coming together to compete and develop their orienteering skills. \nThe league provides learners with practical experience in map-reading\, navigation\, and problem-solving\, while also encouraging teamwork\, physical activity\, and healthy competition. This first leg marked the beginning of an exciting series of events aimed at growing orienteering within schools in the Moutse region.
URL:https://endeavourecdc.co.za/event/moutse-orienteering-school-league-first-leg-at-tadimane-high-school/
LOCATION:Tadimane High School\, Stompo Village\, Dennilton\, Limpopo\, 1030\, South Africa
ATTACH;FMTTYPE=image/jpeg:https://endeavourecdc.co.za/wp-content/uploads/2026/04/IMG-20260331-WA0039.jpg
ORGANIZER;CN="Endeavour Community Development Centre":MAILTO:info@endeavourecdc.co.za
END:VEVENT
END:VCALENDAR