BEGIN:VCALENDAR
VERSION:2.0
PRODID:-//Endeavour - ECPv6.15.18//NONSGML v1.0//EN
CALSCALE:GREGORIAN
METHOD:PUBLISH
X-WR-CALNAME:Endeavour
X-ORIGINAL-URL:https://endeavourecdc.co.za
X-WR-CALDESC:Events for Endeavour
REFRESH-INTERVAL;VALUE=DURATION:PT1H
X-Robots-Tag:noindex
X-PUBLISHED-TTL:PT1H
BEGIN:VTIMEZONE
TZID:UTC
BEGIN:STANDARD
TZOFFSETFROM:+0000
TZOFFSETTO:+0000
TZNAME:UTC
DTSTART:20240101T000000
END:STANDARD
END:VTIMEZONE
BEGIN:VEVENT
DTSTART;TZID=UTC:20250125T090000
DTEND;TZID=UTC:20250125T163000
DTSTAMP:20260421T163846
CREATED:20250209T142422Z
LAST-MODIFIED:20250209T142422Z
UID:953-1737795600-1737822600@endeavourecdc.co.za
SUMMARY:Assembly Motivation at Thejane High School – Inspiring Grade 12 Learners
DESCRIPTION:On 25 January 2025\, Endeavour hosted its first event of the year at Thejane High School—an Assembly Motivation session aimed at inspiring and encouraging Grade 12 learners. The purpose of this event was to uplift students as they prepare for their final school year\, reinforcing the importance of hard work\, dedication\, and perseverance. \nSpeakers shared valuable insights on staying focused\, managing academic pressures\, and making informed decisions about their future. The session also highlighted the significance of qualifying for higher education opportunities and taking proactive steps toward their career goals. By engaging directly with the learners\, the initiative aimed to boost their confidence and equip them with the motivation needed to excel in their studies.
URL:https://endeavourecdc.co.za/event/assembly-motivation-at-thejane-high-school-inspiring-grade-12-learners/
LOCATION:Thejane High School\, Main Road\, Ten Morgan\, Dennilton\, Mpumalanga\, 0850\, South Africa
CATEGORIES:Workshop
ATTACH;FMTTYPE=image/jpeg:https://endeavourecdc.co.za/wp-content/uploads/2025/02/IMG-20250203-WA0006.jpg
ORGANIZER;CN="Endeavour Community Development Centre":MAILTO:info@endeavourecdc.co.za
END:VEVENT
END:VCALENDAR